BEGIN:VCALENDAR
VERSION:2.0
PRODID:-//Scent Evidence K9 - ECPv6.15.20//NONSGML v1.0//EN
CALSCALE:GREGORIAN
METHOD:PUBLISH
X-ORIGINAL-URL:https://scentevidencek9.com
X-WR-CALDESC:Events for Scent Evidence K9
REFRESH-INTERVAL;VALUE=DURATION:PT1H
X-Robots-Tag:noindex
X-PUBLISHED-TTL:PT1H
BEGIN:VTIMEZONE
TZID:America/New_York
BEGIN:DAYLIGHT
TZOFFSETFROM:-0500
TZOFFSETTO:-0400
TZNAME:EDT
DTSTART:20250309T070000
END:DAYLIGHT
BEGIN:STANDARD
TZOFFSETFROM:-0400
TZOFFSETTO:-0500
TZNAME:EST
DTSTART:20251102T060000
END:STANDARD
BEGIN:DAYLIGHT
TZOFFSETFROM:-0500
TZOFFSETTO:-0400
TZNAME:EDT
DTSTART:20260308T070000
END:DAYLIGHT
BEGIN:STANDARD
TZOFFSETFROM:-0400
TZOFFSETTO:-0500
TZNAME:EST
DTSTART:20261101T060000
END:STANDARD
BEGIN:DAYLIGHT
TZOFFSETFROM:-0500
TZOFFSETTO:-0400
TZNAME:EDT
DTSTART:20270314T070000
END:DAYLIGHT
BEGIN:STANDARD
TZOFFSETFROM:-0400
TZOFFSETTO:-0500
TZNAME:EST
DTSTART:20271107T060000
END:STANDARD
END:VTIMEZONE
BEGIN:VEVENT
DTSTART;TZID=America/New_York:20260317T090000
DTEND;TZID=America/New_York:20260319T170000
DTSTAMP:20260421T143733
CREATED:20260216T134740Z
LAST-MODIFIED:20260216T134741Z
UID:15162-1773738000-1773939600@scentevidencek9.com
SUMMARY:6th Annual Florida Bringing The Lost Home Scent Discriminate K9 Trailing Summit – Tallahassee\, FL Mar. 17 – 19\, 2026
DESCRIPTION:6th Annual Florida Bringing The Lost Home Scent Discriminate K9 Trailing Summit – Tallahassee\, FL Mar. 17 – 19\, 2026 – Advanced Scent Discriminate K9 Trailing and Response Seminar for FL BTLH Agencies Only.
URL:https://scentevidencek9.com/event/6th-annual-florida-bringing-the-lost-home-scent-discriminate-k9-trailing-summit-tallahassee-fl-mar-17-19-2026/
LOCATION:Scent Evidence K9 Tallhassee
CATEGORIES:Events
ATTACH;FMTTYPE=image/jpeg:https://scentevidencek9.com/wp-content/uploads/2026/02/Bringing-The-Lost-Home-Summit-2026-copy.jpg
ORGANIZER;CN="Scent Evidence K9":MAILTO:info@scentevidencek9.com
END:VEVENT
END:VCALENDAR