BEGIN:VCALENDAR
VERSION:2.0
PRODID:-//Scent Evidence K9 - ECPv6.15.20//NONSGML v1.0//EN
CALSCALE:GREGORIAN
METHOD:PUBLISH
X-ORIGINAL-URL:https://scentevidencek9.com
X-WR-CALDESC:Events for Scent Evidence K9
REFRESH-INTERVAL;VALUE=DURATION:PT1H
X-Robots-Tag:noindex
X-PUBLISHED-TTL:PT1H
BEGIN:VTIMEZONE
TZID:America/New_York
BEGIN:DAYLIGHT
TZOFFSETFROM:-0500
TZOFFSETTO:-0400
TZNAME:EDT
DTSTART:20230312T070000
END:DAYLIGHT
BEGIN:STANDARD
TZOFFSETFROM:-0400
TZOFFSETTO:-0500
TZNAME:EST
DTSTART:20231105T060000
END:STANDARD
BEGIN:DAYLIGHT
TZOFFSETFROM:-0500
TZOFFSETTO:-0400
TZNAME:EDT
DTSTART:20240310T070000
END:DAYLIGHT
BEGIN:STANDARD
TZOFFSETFROM:-0400
TZOFFSETTO:-0500
TZNAME:EST
DTSTART:20241103T060000
END:STANDARD
BEGIN:DAYLIGHT
TZOFFSETFROM:-0500
TZOFFSETTO:-0400
TZNAME:EDT
DTSTART:20250309T070000
END:DAYLIGHT
BEGIN:STANDARD
TZOFFSETFROM:-0400
TZOFFSETTO:-0500
TZNAME:EST
DTSTART:20251102T060000
END:STANDARD
END:VTIMEZONE
BEGIN:VTIMEZONE
TZID:UTC
BEGIN:STANDARD
TZOFFSETFROM:+0000
TZOFFSETTO:+0000
TZNAME:UTC
DTSTART:20230101T000000
END:STANDARD
END:VTIMEZONE
BEGIN:VEVENT
DTSTART;TZID=America/New_York:20240206T090000
DTEND;TZID=America/New_York:20240208T170000
DTSTAMP:20260421T084009
CREATED:20240104T153828Z
LAST-MODIFIED:20240104T153829Z
UID:13985-1707210000-1707411600@scentevidencek9.com
SUMMARY:Scent Discriminate K9 Trailing Seminar – Charlotte County Sheriff’s Office – Feb. 6-8
DESCRIPTION:Kevin and Avonte Program: Reducing Injury and Death of Missing Individuals with Dementia and Developmental Disabilities Grant. Scent Discriminate K9 Trailing Seminar – Charlotte County Sheriff’s Office – Feb. 6-8\, 2024 Agency Only.
URL:https://scentevidencek9.com/event/scent-discriminate-k9-trailing-seminar-charlotte-county-sheriffs-office-feb-6-8/
LOCATION:Charlotte County Sheriff’s Office
CATEGORIES:Events
ATTACH;FMTTYPE=image/jpeg:https://scentevidencek9.com/wp-content/uploads/2024/01/Scent-Discriminate-Training-Charlotte-County-SO-2024-copy.jpg
ORGANIZER;CN="Scent Evidence K9":MAILTO:info@scentevidencek9.com
END:VEVENT
BEGIN:VEVENT
DTSTART;TZID=UTC:20240220T090000
DTEND;TZID=UTC:20240222T170000
DTSTAMP:20260421T084009
CREATED:20231219T123947Z
LAST-MODIFIED:20241011T133929Z
UID:13962-1708419600-1708621200@scentevidencek9.com
SUMMARY:Florida Bringing The Lost Home Scent Discriminate K9 Trailing Seminar – Sumter County Sheriff's Office Feb. 20 – 22 2024
DESCRIPTION:Florida Bringing The Lost Home Scent Discriminate K9 Trailing Seminar – Elder Community and Wandering Scenario – Sumter County Sheriff’s Office – Feb. 20 – 22 2024 – BTLH Agency Only
URL:https://scentevidencek9.com/event/florida-bringing-the-lost-home-scent-discriminate-k9-trailing-seminar-boats-intense-urban-k9-search-orange-county-sheriffs-office-mar-20-22-2024/
LOCATION:Sumter County Sheriff’s Office\, 7361 Powell Rd.\, Wildwood\, 34785\, United States
CATEGORIES:Events
ATTACH;FMTTYPE=image/jpeg:https://scentevidencek9.com/wp-content/uploads/2023/12/BTLH-Advanced-Scent-Discriminate-K9-Trailing-Seminar-Sumter-County-Sheriffs-Office-Feb-20-22-2024-web.jpg
ORGANIZER;CN="Scent Evidence K9":MAILTO:info@scentevidencek9.com
END:VEVENT
END:VCALENDAR