BEGIN:VCALENDAR
VERSION:2.0
PRODID:-//Scent Evidence K9 - ECPv6.15.20//NONSGML v1.0//EN
CALSCALE:GREGORIAN
METHOD:PUBLISH
X-WR-CALNAME:Scent Evidence K9
X-ORIGINAL-URL:https://scentevidencek9.com
X-WR-CALDESC:Events for Scent Evidence K9
REFRESH-INTERVAL;VALUE=DURATION:PT1H
X-Robots-Tag:noindex
X-PUBLISHED-TTL:PT1H
BEGIN:VTIMEZONE
TZID:America/New_York
BEGIN:DAYLIGHT
TZOFFSETFROM:-0500
TZOFFSETTO:-0400
TZNAME:EDT
DTSTART:20220313T070000
END:DAYLIGHT
BEGIN:STANDARD
TZOFFSETFROM:-0400
TZOFFSETTO:-0500
TZNAME:EST
DTSTART:20221106T060000
END:STANDARD
BEGIN:DAYLIGHT
TZOFFSETFROM:-0500
TZOFFSETTO:-0400
TZNAME:EDT
DTSTART:20230312T070000
END:DAYLIGHT
BEGIN:STANDARD
TZOFFSETFROM:-0400
TZOFFSETTO:-0500
TZNAME:EST
DTSTART:20231105T060000
END:STANDARD
BEGIN:DAYLIGHT
TZOFFSETFROM:-0500
TZOFFSETTO:-0400
TZNAME:EDT
DTSTART:20240310T070000
END:DAYLIGHT
BEGIN:STANDARD
TZOFFSETFROM:-0400
TZOFFSETTO:-0500
TZNAME:EST
DTSTART:20241103T060000
END:STANDARD
END:VTIMEZONE
BEGIN:VEVENT
DTSTART;TZID=America/New_York:20231002T080000
DTEND;TZID=America/New_York:20231006T170000
DTSTAMP:20260423T231258
CREATED:20230822T130431Z
LAST-MODIFIED:20230822T130431Z
UID:13782-1696233600-1696611600@scentevidencek9.com
SUMMARY:Scent Discriminate K9 Training Oct. 2 – 6\, 2023 – Tallahassee\, FL
DESCRIPTION:Human Scent Discriminate K9 Training – Hawthorne Police Dept. (CA) and City of Cotati Police Dept. (CA) \nInstructor – Paul Coley – Scent Evidence K9 CEO.
URL:https://scentevidencek9.com/event/scent-discriminate-k9-training-oct-2-6-2023-tallahassee-fl/
LOCATION:Scent Evidence K9 Tallhassee
CATEGORIES:Events
ATTACH;FMTTYPE=image/jpeg:https://scentevidencek9.com/wp-content/uploads/2023/08/Scent-Discriminate-Training-City-of-Cotati-Hawthorne-2023-copy.jpg
ORGANIZER;CN="Scent Evidence K9":MAILTO:info@scentevidencek9.com
END:VEVENT
END:VCALENDAR