BEGIN:VCALENDAR
VERSION:2.0
PRODID:-//Scent Evidence K9 - ECPv6.15.20//NONSGML v1.0//EN
CALSCALE:GREGORIAN
METHOD:PUBLISH
X-ORIGINAL-URL:https://scentevidencek9.com
X-WR-CALDESC:Events for Scent Evidence K9
REFRESH-INTERVAL;VALUE=DURATION:PT1H
X-Robots-Tag:noindex
X-PUBLISHED-TTL:PT1H
BEGIN:VTIMEZONE
TZID:America/New_York
BEGIN:DAYLIGHT
TZOFFSETFROM:-0500
TZOFFSETTO:-0400
TZNAME:EDT
DTSTART:20240310T070000
END:DAYLIGHT
BEGIN:STANDARD
TZOFFSETFROM:-0400
TZOFFSETTO:-0500
TZNAME:EST
DTSTART:20241103T060000
END:STANDARD
BEGIN:DAYLIGHT
TZOFFSETFROM:-0500
TZOFFSETTO:-0400
TZNAME:EDT
DTSTART:20250309T070000
END:DAYLIGHT
BEGIN:STANDARD
TZOFFSETFROM:-0400
TZOFFSETTO:-0500
TZNAME:EST
DTSTART:20251102T060000
END:STANDARD
BEGIN:DAYLIGHT
TZOFFSETFROM:-0500
TZOFFSETTO:-0400
TZNAME:EDT
DTSTART:20260308T070000
END:DAYLIGHT
BEGIN:STANDARD
TZOFFSETFROM:-0400
TZOFFSETTO:-0500
TZNAME:EST
DTSTART:20261101T060000
END:STANDARD
END:VTIMEZONE
BEGIN:VEVENT
DTSTART;TZID=America/New_York:20250114T080000
DTEND;TZID=America/New_York:20250116T170000
DTSTAMP:20260422T022821
CREATED:20241028T200640Z
LAST-MODIFIED:20241205T155927Z
UID:14514-1736841600-1737046800@scentevidencek9.com
SUMMARY:Florida Bringing The Lost Home Scent Discriminate K9 Trailing Seminar – Hendry County Sheriff’s Office Jan. 14 – 16 2025
DESCRIPTION:Florida Bringing The Lost Home Scent Discriminate K9 Trailing Seminar – Scent Discriminate K9 Trailing – Hendry County Sheriff’s Office – Jan. 14 – 16\, 2025 – FL BTLH Agencies Only
URL:https://scentevidencek9.com/event/florida-bringing-the-lost-home-scent-discriminate-k9-trailing-seminar-hendry-county-sheriffs-office-jan-7-9-2025/
LOCATION:Hendry County Sheriff’s Office
CATEGORIES:Events
ATTACH;FMTTYPE=image/jpeg:https://scentevidencek9.com/wp-content/uploads/2024/10/BTLH-Training-Hendry-Co-SO-Jan-14-16-2025-copy.jpg
ORGANIZER;CN="Scent Evidence K9":MAILTO:info@scentevidencek9.com
END:VEVENT
END:VCALENDAR