BEGIN:VCALENDAR
VERSION:2.0
PRODID:-//Scent Evidence K9 - ECPv6.15.20//NONSGML v1.0//EN
CALSCALE:GREGORIAN
METHOD:PUBLISH
X-WR-CALNAME:Scent Evidence K9
X-ORIGINAL-URL:https://scentevidencek9.com
X-WR-CALDESC:Events for Scent Evidence K9
REFRESH-INTERVAL;VALUE=DURATION:PT1H
X-Robots-Tag:noindex
X-PUBLISHED-TTL:PT1H
BEGIN:VTIMEZONE
TZID:America/New_York
BEGIN:DAYLIGHT
TZOFFSETFROM:-0500
TZOFFSETTO:-0400
TZNAME:EDT
DTSTART:20200308T070000
END:DAYLIGHT
BEGIN:STANDARD
TZOFFSETFROM:-0400
TZOFFSETTO:-0500
TZNAME:EST
DTSTART:20201101T060000
END:STANDARD
BEGIN:DAYLIGHT
TZOFFSETFROM:-0500
TZOFFSETTO:-0400
TZNAME:EDT
DTSTART:20210314T070000
END:DAYLIGHT
BEGIN:STANDARD
TZOFFSETFROM:-0400
TZOFFSETTO:-0500
TZNAME:EST
DTSTART:20211107T060000
END:STANDARD
BEGIN:DAYLIGHT
TZOFFSETFROM:-0500
TZOFFSETTO:-0400
TZNAME:EDT
DTSTART:20220313T070000
END:DAYLIGHT
BEGIN:STANDARD
TZOFFSETFROM:-0400
TZOFFSETTO:-0500
TZNAME:EST
DTSTART:20221106T060000
END:STANDARD
END:VTIMEZONE
BEGIN:VEVENT
DTSTART;VALUE=DATE:20211018
DTEND;VALUE=DATE:20211022
DTSTAMP:20260423T231241
CREATED:20201103T123317Z
LAST-MODIFIED:20220907T220614Z
UID:12413-1634515200-1634860799@scentevidencek9.com
SUMMARY:Advanced Urban K9 Handler Training – Oct. 18-21
DESCRIPTION:Advanced Urban K9 Handler Training October 18-21\, 2021 – Tallahassee\, FL \nLearn advanced K9 trailing techniques in an urban environment. This 4-day Advanced Urban K9 Handler training course covers advanced search techniques of high-traffic K9 trailing including; aged trails\, multiple dogs\, vehicle trails\, location checks\, and drone overwatch and recon. Learn to navigate high traffic\, hard surface trails\, and find your target. \nClick HERE to register for the next seminar and get more info. Call 850-272-6950 if you have any questions! Let’s Hit the Trail! \nPrice: $1500.00  4-Day Course – Training is located at our K9 Corporate Training Office in Tallahassee\, FL. \nUpon completion of this course\, handlers should be able to: \n\nUnderstand techniques of locating targets using 16-24-hour aged trails\nTrail targets in vehicles\nUnderstand the trailing process for using multiple K9’s\nRecognize high-traffic environmental influences and their impact on trailing\nUnderstand the techniques of locating targets using location checks\nIntegrate drone technology and K9 search strategies\nUnderstand scent evidence collection methods in an urban environment\nTrail human scent over hard surfaces\n\nPaul Coley – Founder & CEO\, Scent Evidence K9 – Instructor  \nPaul is a former FBI Forensic Canine Operations Specialist and has dedicated his entire career to public service in the fields of education\, law enforcement\, criminal justice\, investigations\, forensics\, and emergency management. \nPaul founded Scent Evidence K9 in 2012 to help communities and law enforcement agencies improve their methods of locating missing persons. Like many other canine handlers\, Paul faced the challenge of finding an effective scent article during deployments. He developed the life-saving Scent Preservation Kit® and “The SEKR” Scent Evidence Collection Vacuum to provide K9 Trailing responders with uncontaminated scent articles and on-scene scent collection methods that increase location success while reducing the time it takes to find a target. \nFor a list of all of our K9 Handler Training classes CLICK HERE
URL:https://scentevidencek9.com/event/advanced-urban-k9-handler-training-oct-18-21/
LOCATION:SEK9 Training Facility – Tallahassee\, 2813 Industrial Plaza Drive\, Tallahassee\, FL\, 32301\, United States
CATEGORIES:Events
ATTACH;FMTTYPE=image/jpeg:https://scentevidencek9.com/wp-content/uploads/2020/11/Advanced-Urban-K9-Training-Oct-18-21.jpg
ORGANIZER;CN="Scent Evidence K9":MAILTO:info@scentevidencek9.com
END:VEVENT
END:VCALENDAR