BEGIN:VCALENDAR
VERSION:2.0
PRODID:-//Scent Evidence K9 - ECPv6.15.20//NONSGML v1.0//EN
CALSCALE:GREGORIAN
METHOD:PUBLISH
X-ORIGINAL-URL:https://scentevidencek9.com
X-WR-CALDESC:Events for Scent Evidence K9
REFRESH-INTERVAL;VALUE=DURATION:PT1H
X-Robots-Tag:noindex
X-PUBLISHED-TTL:PT1H
BEGIN:VTIMEZONE
TZID:America/New_York
BEGIN:DAYLIGHT
TZOFFSETFROM:-0500
TZOFFSETTO:-0400
TZNAME:EDT
DTSTART:20250309T070000
END:DAYLIGHT
BEGIN:STANDARD
TZOFFSETFROM:-0400
TZOFFSETTO:-0500
TZNAME:EST
DTSTART:20251102T060000
END:STANDARD
BEGIN:DAYLIGHT
TZOFFSETFROM:-0500
TZOFFSETTO:-0400
TZNAME:EDT
DTSTART:20260308T070000
END:DAYLIGHT
BEGIN:STANDARD
TZOFFSETFROM:-0400
TZOFFSETTO:-0500
TZNAME:EST
DTSTART:20261101T060000
END:STANDARD
BEGIN:DAYLIGHT
TZOFFSETFROM:-0500
TZOFFSETTO:-0400
TZNAME:EDT
DTSTART:20270314T070000
END:DAYLIGHT
BEGIN:STANDARD
TZOFFSETFROM:-0400
TZOFFSETTO:-0500
TZNAME:EST
DTSTART:20271107T060000
END:STANDARD
END:VTIMEZONE
BEGIN:VEVENT
DTSTART;TZID=America/New_York:20260331T090000
DTEND;TZID=America/New_York:20260402T170000
DTSTAMP:20260421T130131
CREATED:20260212T191107Z
LAST-MODIFIED:20260212T194449Z
UID:15143-1774947600-1775149200@scentevidencek9.com
SUMMARY:Scent Discriminate K9 Trailing Seminar March 31 - April 2\, 2026 - Tallahassee\, FL
DESCRIPTION:3-Day Scent Discriminate K9 Trailing Seminar – March 31 – April 2\, 2026 – Scent Evidence K9 Training Headquarters in Tallahassee  – Open Registration – Limited to 6 K9 Teams \nPrice: $1500.00  3-Day Course – Training is located at our K9 Training Headquarters in Tallahassee\, FL. Our Tallahassee location provides great indoor/outdoor and urban hard surface trailing opportunities in the heart of the city.  \nPaul Coley – Founder & CEO\, Scent Evidence K9 – Instructor \nOur comprehensive M77® K9 Training Plan develops fundamental skills in dogs and handlers for human scent discriminate trailing. Handlers are taught to use the standardized processes contained in the plan for training bloodhounds and multipurpose patrol dogs to indicate the presence\, absence\, and path of a targeted person utilizing the scent of the identified individual. Our innovative trailing app gives handlers the ability to measure the success of each exercise in the field from their phone and meets all SWGDOG requirements. Click HERE for more info about this course. \n \n\n	Notice: JavaScript is required for this content.\n\n\n    \n\n\n        \n        \n        \n  \n  \n  \n  \n  \n  \n  \n  \n 
URL:https://scentevidencek9.com/event/scent-discriminate-k9-trailing-seminar-march-31-april-2-2026-tallahassee-fl/
LOCATION:Scent Evidence K9 Tallhassee
CATEGORIES:Events
ATTACH;FMTTYPE=image/jpeg:https://scentevidencek9.com/wp-content/uploads/2026/02/SEK9-Trailing-Seminar-Tallahassee-March-31-April-2-2026-copy.jpg
ORGANIZER;CN="Scent Evidence K9":MAILTO:info@scentevidencek9.com
END:VEVENT
END:VCALENDAR